BEGIN:VCALENDAR
VERSION:2.0
PRODID:-//Mustang Club of America - ECPv6.15.16//NONSGML v1.0//EN
CALSCALE:GREGORIAN
METHOD:PUBLISH
X-WR-CALNAME:Mustang Club of America
X-ORIGINAL-URL:https://mustang.org
X-WR-CALDESC:Events for Mustang Club of America
REFRESH-INTERVAL;VALUE=DURATION:PT1H
X-Robots-Tag:noindex
X-PUBLISHED-TTL:PT1H
BEGIN:VTIMEZONE
TZID:America/New_York
BEGIN:DAYLIGHT
TZOFFSETFROM:-0500
TZOFFSETTO:-0400
TZNAME:EDT
DTSTART:20240310T070000
END:DAYLIGHT
BEGIN:STANDARD
TZOFFSETFROM:-0400
TZOFFSETTO:-0500
TZNAME:EST
DTSTART:20241103T060000
END:STANDARD
BEGIN:DAYLIGHT
TZOFFSETFROM:-0500
TZOFFSETTO:-0400
TZNAME:EDT
DTSTART:20250309T070000
END:DAYLIGHT
BEGIN:STANDARD
TZOFFSETFROM:-0400
TZOFFSETTO:-0500
TZNAME:EST
DTSTART:20251102T060000
END:STANDARD
BEGIN:DAYLIGHT
TZOFFSETFROM:-0500
TZOFFSETTO:-0400
TZNAME:EDT
DTSTART:20260308T070000
END:DAYLIGHT
BEGIN:STANDARD
TZOFFSETFROM:-0400
TZOFFSETTO:-0500
TZNAME:EST
DTSTART:20261101T060000
END:STANDARD
END:VTIMEZONE
BEGIN:VTIMEZONE
TZID:America/Chicago
BEGIN:DAYLIGHT
TZOFFSETFROM:-0600
TZOFFSETTO:-0500
TZNAME:CDT
DTSTART:20240310T080000
END:DAYLIGHT
BEGIN:STANDARD
TZOFFSETFROM:-0500
TZOFFSETTO:-0600
TZNAME:CST
DTSTART:20241103T070000
END:STANDARD
BEGIN:DAYLIGHT
TZOFFSETFROM:-0600
TZOFFSETTO:-0500
TZNAME:CDT
DTSTART:20250309T080000
END:DAYLIGHT
BEGIN:STANDARD
TZOFFSETFROM:-0500
TZOFFSETTO:-0600
TZNAME:CST
DTSTART:20251102T070000
END:STANDARD
BEGIN:DAYLIGHT
TZOFFSETFROM:-0600
TZOFFSETTO:-0500
TZNAME:CDT
DTSTART:20260308T080000
END:DAYLIGHT
BEGIN:STANDARD
TZOFFSETFROM:-0500
TZOFFSETTO:-0600
TZNAME:CST
DTSTART:20261101T070000
END:STANDARD
END:VTIMEZONE
BEGIN:VEVENT
DTSTART;TZID=America/New_York:20251004T080000
DTEND;TZID=America/New_York:20251005T170000
DTSTAMP:20260419T112549
CREATED:20250317T150356Z
LAST-MODIFIED:20250317T150356Z
UID:16277-1759564800-1759683600@mustang.org
SUMMARY:Carolina Regional Mustang Club 25th Annual Performance Driving School
DESCRIPTION:Early registration through June 30\, 2025\, $475. Registration after June 30\, 2025\, $499. Registration ends September 15\, 11:59PM EDT. \nLearn high-speed driving and car control skills from experienced instructors\, or for advance participants\, practice your skills solo or with a coach.
URL:https://mustang.org/event/carolina-regional-mustang-club-25th-annual-performance-driving-school/
LOCATION:Carolina Motorsports Park\, 3662 Kershaw Hwy\, Kershaw\, SC\, 29067\, United States
CATEGORIES:MCA Driving Events
ORGANIZER;CN="Carolina Regional Mustang Club":MAILTO:nativermonter@gmail.com
END:VEVENT
BEGIN:VEVENT
DTSTART;TZID=America/Chicago:20250819T080000
DTEND;TZID=America/Chicago:20250904T170000
DTSTAMP:20260419T112549
CREATED:20250529T024044Z
LAST-MODIFIED:20250529T024044Z
UID:16491-1755590400-1757005200@mustang.org
SUMMARY:2025 Pony Drive- The Great Mississippi River Road
DESCRIPTION:Pony Drive 2025- The Great Mississippi River Road\nAugust 19 – September 5\, 2025\nThis August\, the Pony Drive will embark on another exciting trip\, adding to the 21 years of trips throughout the US. This time\, we will follow the Mississippi River from its start in Minnesota to its end in New Orleans. On our way South\, we will be branching off at various times to explore places that are exciting\, historical and just fun places to visit.\nOur beginning will include the Mustangs at the Island Show\, hosted by the Lake Country Mustang Club in Minneapolis. It will be 3 days of fun\, cruises\, show and relaxing days at this major resort. The Club has been helping me coordinate our activities so to insure we all have an awesome time there.\nNext will be a stop at House on the Rock\, a famous Wisconsin attraction and a massive collection of any kinds of items you could think of and a lot more you may have never seen. It’s sensory overload with this collection.\nContinuing South\, a stop at the American Pickers Store in Iowa\, Hannibal\, MO\, the land of Huck Finn\, St Louis\, Metropolis\, IL and their Superman attractions\, Memphis- Graceland and Beale St.\, Vicksburg and it’s Civil War history\, Baton Rouge- Louisiana’s Capital. Ending finally in New Orleans\, staying in the French Quarter and 3 days to explore the history there.\nMore information will be coming soon- watch for updates at\nhttp://www.ponydrive.us
URL:https://mustang.org/event/2025-pony-drive-the-great-mississippi-river-road/
LOCATION:Minnesota to Lousianna\, 79 5th st\, Midway\, GA\, 31320\, United States
CATEGORIES:MCA Driving Events
ORGANIZER;CN="The Great American Pony Drive":MAILTO:organizer1@ponydrive.us
END:VEVENT
BEGIN:VEVENT
DTSTART;TZID=America/Chicago:20250524T080000
DTEND;TZID=America/Chicago:20250525T170000
DTSTAMP:20260419T112549
CREATED:20240819T134405Z
LAST-MODIFIED:20241210T023737Z
UID:15316-1748073600-1748192400@mustang.org
SUMMARY:Ponies in the Ozarks Driving Event
DESCRIPTION:Mustang Club of America announces return to Ozark International Raceway\, May 23-25\, 2025. Once again MCA will host a three-day judged national show and a two-day track event. Track days will be May 24th and 25th. \nRegistration is open. CLICK HERE TO REGISTER. \nNOTE:\nOne change from previous registrations is Event Cancellation Insurance\, MSR will offer event cancellation insurance. When you check out you will be given the option to purchase insurance. More information about what is covered can be found here. The policy covers over 65 reasons for cancellation. \nWith the availability of this insurance the MCA refund policy will be as follows:\nMCA will offer no refund or credit for track events. \nMCA member discounts:\nAny registration using the MCA discount age 18 or over must have their own MCA membership. If membership can’t be verified\, you will be charged the non-member rate.
URL:https://mustang.org/event/ponies-in-the-ozarks-hpde/
LOCATION:MO
CATEGORIES:MCA Driving Events
ORGANIZER;CN="Mustang Club of America":MAILTO:shows@mustang.org
END:VEVENT
END:VCALENDAR