BEGIN:VCALENDAR
VERSION:2.0
PRODID:-//Mustang Club of America - ECPv6.15.16//NONSGML v1.0//EN
CALSCALE:GREGORIAN
METHOD:PUBLISH
X-WR-CALNAME:Mustang Club of America
X-ORIGINAL-URL:https://mustang.org
X-WR-CALDESC:Events for Mustang Club of America
REFRESH-INTERVAL;VALUE=DURATION:PT1H
X-Robots-Tag:noindex
X-PUBLISHED-TTL:PT1H
BEGIN:VTIMEZONE
TZID:America/Denver
BEGIN:DAYLIGHT
TZOFFSETFROM:-0700
TZOFFSETTO:-0600
TZNAME:MDT
DTSTART:20250309T090000
END:DAYLIGHT
BEGIN:STANDARD
TZOFFSETFROM:-0600
TZOFFSETTO:-0700
TZNAME:MST
DTSTART:20251102T080000
END:STANDARD
BEGIN:DAYLIGHT
TZOFFSETFROM:-0700
TZOFFSETTO:-0600
TZNAME:MDT
DTSTART:20260308T090000
END:DAYLIGHT
BEGIN:STANDARD
TZOFFSETFROM:-0600
TZOFFSETTO:-0700
TZNAME:MST
DTSTART:20261101T080000
END:STANDARD
BEGIN:DAYLIGHT
TZOFFSETFROM:-0700
TZOFFSETTO:-0600
TZNAME:MDT
DTSTART:20270314T090000
END:DAYLIGHT
BEGIN:STANDARD
TZOFFSETFROM:-0600
TZOFFSETTO:-0700
TZNAME:MST
DTSTART:20271107T080000
END:STANDARD
END:VTIMEZONE
BEGIN:VEVENT
DTSTART;TZID=America/Denver:20260801T080000
DTEND;TZID=America/Denver:20260801T140000
DTSTAMP:20260422T165112
CREATED:20260105T143517Z
LAST-MODIFIED:20260219T142058Z
UID:17028-1785571200-1785592800@mustang.org
SUMMARY:50th Annual Horsefeathers Car Show
DESCRIPTION:50th Annual Horsefeathers Car Show by The Early Mustang Club of Colorado. Located on the main street of The Shops at Northfield\, 8am-2pm. Registration 7:30-9:30a.m.\, $30 preregistration includes t-shirt\, dash plaque and goody bags to the first 150 registered cars. Display Only registration will be accepted after May 1st if we still have room (Space limited to 200 cars) $20 – does not include t-shirt or goody bags. Maverick Mike will provide Music and we will have many silent auction tables available to support our Charity account. Please join us for the great celebration!\nCall 303-748-2678 if you have any questions or email earlymustangclub@gmail.com\nRegister at https://carshowpro.com/events/view/2865
URL:https://mustang.org/event/50th-annual-horsefeathers-car-show-2/
LOCATION:Northfield at Stapleton Main Street\, 8340 E Northfield Rd\, Denver\, CO\, 80014\, United States
CATEGORIES:Other Events
ORGANIZER;CN="The Early Mustang Club of Colorado":MAILTO:earlymustangclub@gmail.com
END:VEVENT
END:VCALENDAR