BEGIN:VCALENDAR
VERSION:2.0
PRODID:-//Mustang Club of America - ECPv6.15.16//NONSGML v1.0//EN
CALSCALE:GREGORIAN
METHOD:PUBLISH
X-WR-CALNAME:Mustang Club of America
X-ORIGINAL-URL:https://mustang.org
X-WR-CALDESC:Events for Mustang Club of America
REFRESH-INTERVAL;VALUE=DURATION:PT1H
X-Robots-Tag:noindex
X-PUBLISHED-TTL:PT1H
BEGIN:VTIMEZONE
TZID:America/New_York
BEGIN:DAYLIGHT
TZOFFSETFROM:-0500
TZOFFSETTO:-0400
TZNAME:EDT
DTSTART:20240310T070000
END:DAYLIGHT
BEGIN:STANDARD
TZOFFSETFROM:-0400
TZOFFSETTO:-0500
TZNAME:EST
DTSTART:20241103T060000
END:STANDARD
BEGIN:DAYLIGHT
TZOFFSETFROM:-0500
TZOFFSETTO:-0400
TZNAME:EDT
DTSTART:20250309T070000
END:DAYLIGHT
BEGIN:STANDARD
TZOFFSETFROM:-0400
TZOFFSETTO:-0500
TZNAME:EST
DTSTART:20251102T060000
END:STANDARD
BEGIN:DAYLIGHT
TZOFFSETFROM:-0500
TZOFFSETTO:-0400
TZNAME:EDT
DTSTART:20260308T070000
END:DAYLIGHT
BEGIN:STANDARD
TZOFFSETFROM:-0400
TZOFFSETTO:-0500
TZNAME:EST
DTSTART:20261101T060000
END:STANDARD
END:VTIMEZONE
BEGIN:VEVENT
DTSTART;TZID=America/New_York:20250608T090000
DTEND;TZID=America/New_York:20250608T150000
DTSTAMP:20260423T005429
CREATED:20250217T230329Z
LAST-MODIFIED:20250217T230329Z
UID:16124-1749373200-1749394800@mustang.org
SUMMARY:Syracuse Shelby Mustang Club All Ford Show/Cruise-In
DESCRIPTION:Register by June 1\, 2025\, $10. Day of event registration 9AM – Noon\, $15. The Syracuse Shelby Mustang Club will host its 46th All Ford Show/Cruise-In. Bring your Ford\, Lincoln or Mercury and enjoy a relaxing day by the water with your friends. Show includes music\, food trucks\, 50/50 raffle. Show car registrants are eligible for cash prizes\, door prizes and a grand prize large screen tv. For more details check out our Facebook page Syracuse Shelby Mustang All Ford Club.
URL:https://mustang.org/event/syracuse-shelby-mustang-club-all-ford-show-cruise-in/
LOCATION:Three Rivers Point\, Gaskin Rd & Rt 57\, Clay\, NY\, 13041\, United States
CATEGORIES:Other Events
ORGANIZER;CN="Syracuse Shelby Mustang All Ford Club":MAILTO:syrshelbymustangclub@yahoo.com
END:VEVENT
END:VCALENDAR