BEGIN:VCALENDAR
VERSION:2.0
PRODID:-//Mustang Club of America - ECPv6.15.16//NONSGML v1.0//EN
CALSCALE:GREGORIAN
METHOD:PUBLISH
X-WR-CALNAME:Mustang Club of America
X-ORIGINAL-URL:https://mustang.org
X-WR-CALDESC:Events for Mustang Club of America
REFRESH-INTERVAL;VALUE=DURATION:PT1H
X-Robots-Tag:noindex
X-PUBLISHED-TTL:PT1H
BEGIN:VTIMEZONE
TZID:America/Chicago
BEGIN:DAYLIGHT
TZOFFSETFROM:-0600
TZOFFSETTO:-0500
TZNAME:CDT
DTSTART:20250309T080000
END:DAYLIGHT
BEGIN:STANDARD
TZOFFSETFROM:-0500
TZOFFSETTO:-0600
TZNAME:CST
DTSTART:20251102T070000
END:STANDARD
BEGIN:DAYLIGHT
TZOFFSETFROM:-0600
TZOFFSETTO:-0500
TZNAME:CDT
DTSTART:20260308T080000
END:DAYLIGHT
BEGIN:STANDARD
TZOFFSETFROM:-0500
TZOFFSETTO:-0600
TZNAME:CST
DTSTART:20261101T070000
END:STANDARD
BEGIN:DAYLIGHT
TZOFFSETFROM:-0600
TZOFFSETTO:-0500
TZNAME:CDT
DTSTART:20270314T080000
END:DAYLIGHT
BEGIN:STANDARD
TZOFFSETFROM:-0500
TZOFFSETTO:-0600
TZNAME:CST
DTSTART:20271107T070000
END:STANDARD
END:VTIMEZONE
BEGIN:VEVENT
DTSTART;TZID=America/Chicago:20260607T080000
DTEND;TZID=America/Chicago:20260607T160000
DTSTAMP:20260422T130127
CREATED:20260314T065020Z
LAST-MODIFIED:20260412T204215Z
UID:17234-1780819200-1780848000@mustang.org
SUMMARY:42nd Annual Mustang and Ford Show
DESCRIPTION:Pre-register open until June 4\, 2026\, $30. Day of show registration open from 8AM to 10AM\, $30. \nA portion of the proceeds will go to Olathe Advance Technical Center scholarship fund for scholarships. \nRegister at 2026 MCoGK Annual Show
URL:https://mustang.org/event/42nd-annual-mustang-and-ford-show-2/
LOCATION:Shawnee Mission Ford\, 11501 Shawnee Mission Pkwy\, Shawnee\, KS\, 66203\, United States
CATEGORIES:Other Events
ORGANIZER;CN="Mustang Club of Greater Kansas City":MAILTO:eric.enfield@gmail.com
END:VEVENT
END:VCALENDAR