BEGIN:VCALENDAR
VERSION:2.0
PRODID:-//Mustang Club of America - ECPv6.15.16//NONSGML v1.0//EN
CALSCALE:GREGORIAN
METHOD:PUBLISH
X-WR-CALNAME:Mustang Club of America
X-ORIGINAL-URL:https://mustang.org
X-WR-CALDESC:Events for Mustang Club of America
REFRESH-INTERVAL;VALUE=DURATION:PT1H
X-Robots-Tag:noindex
X-PUBLISHED-TTL:PT1H
BEGIN:VTIMEZONE
TZID:UTC
BEGIN:STANDARD
TZOFFSETFROM:+0000
TZOFFSETTO:+0000
TZNAME:UTC
DTSTART:20250101T000000
END:STANDARD
END:VTIMEZONE
BEGIN:VTIMEZONE
TZID:America/New_York
BEGIN:DAYLIGHT
TZOFFSETFROM:-0500
TZOFFSETTO:-0400
TZNAME:EDT
DTSTART:20240310T070000
END:DAYLIGHT
BEGIN:STANDARD
TZOFFSETFROM:-0400
TZOFFSETTO:-0500
TZNAME:EST
DTSTART:20241103T060000
END:STANDARD
BEGIN:DAYLIGHT
TZOFFSETFROM:-0500
TZOFFSETTO:-0400
TZNAME:EDT
DTSTART:20250309T070000
END:DAYLIGHT
BEGIN:STANDARD
TZOFFSETFROM:-0400
TZOFFSETTO:-0500
TZNAME:EST
DTSTART:20251102T060000
END:STANDARD
BEGIN:DAYLIGHT
TZOFFSETFROM:-0500
TZOFFSETTO:-0400
TZNAME:EDT
DTSTART:20260308T070000
END:DAYLIGHT
BEGIN:STANDARD
TZOFFSETFROM:-0400
TZOFFSETTO:-0500
TZNAME:EST
DTSTART:20261101T060000
END:STANDARD
END:VTIMEZONE
BEGIN:VTIMEZONE
TZID:America/Chicago
BEGIN:DAYLIGHT
TZOFFSETFROM:-0600
TZOFFSETTO:-0500
TZNAME:CDT
DTSTART:20240310T080000
END:DAYLIGHT
BEGIN:STANDARD
TZOFFSETFROM:-0500
TZOFFSETTO:-0600
TZNAME:CST
DTSTART:20241103T070000
END:STANDARD
BEGIN:DAYLIGHT
TZOFFSETFROM:-0600
TZOFFSETTO:-0500
TZNAME:CDT
DTSTART:20250309T080000
END:DAYLIGHT
BEGIN:STANDARD
TZOFFSETFROM:-0500
TZOFFSETTO:-0600
TZNAME:CST
DTSTART:20251102T070000
END:STANDARD
BEGIN:DAYLIGHT
TZOFFSETFROM:-0600
TZOFFSETTO:-0500
TZNAME:CDT
DTSTART:20260308T080000
END:DAYLIGHT
BEGIN:STANDARD
TZOFFSETFROM:-0500
TZOFFSETTO:-0600
TZNAME:CST
DTSTART:20261101T070000
END:STANDARD
END:VTIMEZONE
BEGIN:VTIMEZONE
TZID:America/Denver
BEGIN:DAYLIGHT
TZOFFSETFROM:-0700
TZOFFSETTO:-0600
TZNAME:MDT
DTSTART:20240310T090000
END:DAYLIGHT
BEGIN:STANDARD
TZOFFSETFROM:-0600
TZOFFSETTO:-0700
TZNAME:MST
DTSTART:20241103T080000
END:STANDARD
BEGIN:DAYLIGHT
TZOFFSETFROM:-0700
TZOFFSETTO:-0600
TZNAME:MDT
DTSTART:20250309T090000
END:DAYLIGHT
BEGIN:STANDARD
TZOFFSETFROM:-0600
TZOFFSETTO:-0700
TZNAME:MST
DTSTART:20251102T080000
END:STANDARD
BEGIN:DAYLIGHT
TZOFFSETFROM:-0700
TZOFFSETTO:-0600
TZNAME:MDT
DTSTART:20260308T090000
END:DAYLIGHT
BEGIN:STANDARD
TZOFFSETFROM:-0600
TZOFFSETTO:-0700
TZNAME:MST
DTSTART:20261101T080000
END:STANDARD
END:VTIMEZONE
BEGIN:VTIMEZONE
TZID:America/Los_Angeles
BEGIN:DAYLIGHT
TZOFFSETFROM:-0800
TZOFFSETTO:-0700
TZNAME:PDT
DTSTART:20240310T100000
END:DAYLIGHT
BEGIN:STANDARD
TZOFFSETFROM:-0700
TZOFFSETTO:-0800
TZNAME:PST
DTSTART:20241103T090000
END:STANDARD
BEGIN:DAYLIGHT
TZOFFSETFROM:-0800
TZOFFSETTO:-0700
TZNAME:PDT
DTSTART:20250309T100000
END:DAYLIGHT
BEGIN:STANDARD
TZOFFSETFROM:-0700
TZOFFSETTO:-0800
TZNAME:PST
DTSTART:20251102T090000
END:STANDARD
BEGIN:DAYLIGHT
TZOFFSETFROM:-0800
TZOFFSETTO:-0700
TZNAME:PDT
DTSTART:20260308T100000
END:DAYLIGHT
BEGIN:STANDARD
TZOFFSETFROM:-0700
TZOFFSETTO:-0800
TZNAME:PST
DTSTART:20261101T090000
END:STANDARD
END:VTIMEZONE
BEGIN:VEVENT
DTSTART;TZID=UTC:20260418T080000
DTEND;TZID=UTC:20260418T143000
DTSTAMP:20260422T114426
CREATED:20260306T024807Z
LAST-MODIFIED:20260306T024807Z
UID:17211-1776499200-1776522600@mustang.org
SUMMARY:VALLEY MUSTANGS UNLIMITED 31st ANNUAL CAR SHOW
DESCRIPTION:Day of event registration 8AM – 11AM\, $25.  RAIN DATE April 25\, 2026. \nINFORMATION IS ALSO ON OUR CLUB FACEBOOK PAGE. NO TENTS ALLOWED \n2 TROPHIES PER CLASS\nDASH PLAQUES FOR FIRST 100\nDOOR PRIZES AND RAFFLES\nFOOD VENDORS\n(“VALLEY MUSTANGS UNLIMITED MEMBERS CARS WILL BE DISPLAY ONLY”!)
URL:https://mustang.org/event/valley-mustangs-unlimited-31st-annual-car-show/
LOCATION:13 Lee Jackson Hwy\, 13 LEE JACKSON HWY.\, Staunton\, VA\, 244001\, United States
CATEGORIES:Other Events
ORGANIZER;CN="Valley Mustangs Unlimited":MAILTO:rs69mustang@gmail.com
END:VEVENT
BEGIN:VEVENT
DTSTART;TZID=America/New_York:20251123T080000
DTEND;TZID=America/New_York:20251123T150000
DTSTAMP:20260422T114426
CREATED:20250706T204644Z
LAST-MODIFIED:20250706T204644Z
UID:16615-1763884800-1763910000@mustang.org
SUMMARY:33rd Annual Ponies under the Palms Mustang and Ford Show
DESCRIPTION:Preregister before November 17\, 2025\, $25. Day of event registration 8AM – 10AM\, $30. \nEnjoy a great Mustang show at our convenient show location at beautiful and picturesque Main Street in Lakewood Ranch\, just off I-75 at exit 213.\nThis charity event is open to all years\, makes\, and models of FORD POWERED cars and trucks. This will be an independently\, outside-judged car show. Class awards will be presented in the following categories: Mustang 64 1/2 – 68\, 69- 73\, 74 – 93\, 94 – 04\, 05 – 14\, 15 – 26\, 24 – Current\, Specialty Mustangs – All Years (example: Roush\, Saleen\, Boss 302)\, Trucks/SUV\, and Non-Mustang (Ford powered).
URL:https://mustang.org/event/33rd-annual-ponies-under-the-palms-mustang-and-ford-show/
LOCATION:Lakewood Ranch Main Street\, 8126 Lakewood Main St\, Lakewood Ranch\, FL\, 34202\, United States
CATEGORIES:Other Events
ORGANIZER;CN="Mustang Club of West Central Florida":MAILTO:info@mustangclubofwestcentralflorida.com
END:VEVENT
BEGIN:VEVENT
DTSTART;TZID=America/New_York:20250927T080000
DTEND;TZID=America/New_York:20250927T150000
DTSTAMP:20260422T114426
CREATED:20250703T001000Z
LAST-MODIFIED:20250706T205724Z
UID:16577-1758960000-1758985200@mustang.org
SUMMARY:45th Annual CRMC Mustang & All Ford Show
DESCRIPTION:Preregistration $35 includes one year membership. Day of event registration 8AM – 11AM\, $40\, includes 1 year club membership\, display $10. Judging 11am – 1Ppm.
URL:https://mustang.org/event/45th-annual-crmc-mustang-all-ford-show/
LOCATION:CrossRoads Ford of Indian Trail\, 88 Dale Jarrett Blvd\, Indian Trail\, NC\, 28079\, United States
CATEGORIES:Other Events
ORGANIZER;CN="Carolina Regional Mustang Club":MAILTO:nativermonter@gmail.com
END:VEVENT
BEGIN:VEVENT
DTSTART;VALUE=DATE:20250901
DTEND;VALUE=DATE:20250907
DTSTAMP:20260422T114426
CREATED:20250822T144141Z
LAST-MODIFIED:20250822T144141Z
UID:16814-1756684800-1757203199@mustang.org
SUMMARY:Mustang Week Myrtle Beach 2025
DESCRIPTION:Information and registration can be found at the event website listed below.
URL:https://mustang.org/event/mustang-week-myrtle-beach-2025/
LOCATION:Myrtle Beach Mall\, 10177 N Kings Hwy\, Myrtle Beach\, SC\, 29572\, United States
CATEGORIES:Other Events
END:VEVENT
BEGIN:VEVENT
DTSTART;TZID=America/Denver:20250802T080000
DTEND;TZID=America/Denver:20250802T140000
DTSTAMP:20260422T114426
CREATED:20250216T194616Z
LAST-MODIFIED:20250216T194616Z
UID:16092-1754121600-1754143200@mustang.org
SUMMARY:49th Annual Horsefeathers All Ford Car Show
DESCRIPTION:Registration open online\, $35.\nLimited to 125 cars. Registration fee includes t-shirt\, dash plaque and goody bag. Silent Auction to benefit our charity account. DJ\, Door prizes and trophies to top 3 spots in each class. Call for more information or check out the event page\,
URL:https://mustang.org/event/49th-annual-horsefeathers-all-ford-car-show/
LOCATION:Westrail Tap and Grill\, 195 S Union Blvd\, Lakewood\, CO\, 80228\, United States
CATEGORIES:Other Events
ORGANIZER;CN="The Early Mustang Club of Colorado":MAILTO:earlymustangclub@gmail.com
END:VEVENT
BEGIN:VEVENT
DTSTART;TZID=America/New_York:20250719T080000
DTEND;TZID=America/New_York:20250719T150000
DTSTAMP:20260422T114426
CREATED:20241031T235556Z
LAST-MODIFIED:20241031T235556Z
UID:15632-1752912000-1752937200@mustang.org
SUMMARY:42nd Annual Old Fort Mustangers Mustang & Ford Show
DESCRIPTION:Preregister until June 27\, 2025\, $15. Day of event registration 8AM – 11AM\, $20. Door Prizes**Raffle Items**50/50 drawing\nSpectators Admitted Free- Rain or Shine- Ford Powered only\nParticipant Judging-Dash Plaques to first 150 registered-No Alcohol Allowed
URL:https://mustang.org/event/42nd-annual-old-fort-mustangers-mustang-ford-show/
LOCATION:Ivy Tech Community College\, 3800 North Anthony Blvd\, Fort Wayne\, IN\, 46805\, United States
CATEGORIES:Other Events
ORGANIZER;CN="Old Fort Mustangers":MAILTO:jbaltes2011@gmail.com
END:VEVENT
BEGIN:VEVENT
DTSTART;TZID=America/New_York:20250717T080000
DTEND;TZID=America/New_York:20250719T170000
DTSTAMP:20260422T114426
CREATED:20250212T020156Z
LAST-MODIFIED:20250212T020156Z
UID:16025-1752739200-1752944400@mustang.org
SUMMARY:2025 42nd Annual Arthritis Show
DESCRIPTION:Registration opens February 1\, 2025\, $35 + $2 service fee. Day of event registration 7AM – 11AM\, $35\, + $2 service fee. \nThe 42nd annual Arthritis Foundation Classic Auto Show and Cruise-in is one of the largest charity car shows in the Midwest. This event stretches over two days and typically brings between 800 and 1\,000 cars\, trucks and motorcycles to our one-of-a-kind show field location in Dublin\, Ohio.\nThe event includes live music\, hundreds of trophies\, including our 6-foot-tall trophies on Friday night\, and many food trucks. It is a family friendly event with fun stuff for kids to do\, too!
URL:https://mustang.org/event/2025-42nd-annual-arthritis-show/
LOCATION:Dublin Metro Place\, 555 Metro Place North\, Dublin\, OH\, 43017\, United States
CATEGORIES:Other Events
ORGANIZER;CN="Mustang Club of Ohio 1":MAILTO:grawe02@yahoo.com
END:VEVENT
BEGIN:VEVENT
DTSTART;TZID=America/New_York:20250621T090000
DTEND;TZID=America/New_York:20250621T140000
DTSTAMP:20260422T114426
CREATED:20250218T170653Z
LAST-MODIFIED:20250312T005809Z
UID:16129-1750496400-1750514400@mustang.org
SUMMARY:17th Annual Mustang vs. Camaro Showdown
DESCRIPTION:Day of event registration 9AM – Noon\, $10 per car. Popular vote\, $1 per vote. \nThis event is a fundraiser for charity. The sponsoring club and charity choice for this event rotates yearly between the Mahoning Valley Mustangs and the North Eastern Ohio Camaro Club. Easter Seals of Northeast OH is the chosen charity by the Mahoning Vally Mustang Club for this year. \nThe club attracting the most cars gets bragging rights for the next year. The “score” is now 8 years to 8 years. \nThis year is the 30th anniversary of the Mahoning Valley Mustangs\, so please join us! The more Mustangs the merrier for a tie breaking win while honoring 30 years of the Mahoning Valley Mustangs\, a year without Camaro Production\, and ultimately a generous donation to our charity recipient. \nWE NEED HELP WITH MORE MUSTANGS THIS YEAR!!
URL:https://mustang.org/event/17th-annual-mustang-vs-camaro-showdown/
LOCATION:Summit Racing Equipment\, 1200 Southeast Ave.\, Tallmadge\, OH\, 44278\, United States
CATEGORIES:Other Events
ORGANIZER;CN="Mahoning Valley Mustangs":MAILTO:tomkearney@netzero.com
END:VEVENT
BEGIN:VEVENT
DTSTART;TZID=America/New_York:20250608T090000
DTEND;TZID=America/New_York:20250608T150000
DTSTAMP:20260422T114426
CREATED:20250217T230329Z
LAST-MODIFIED:20250217T230329Z
UID:16124-1749373200-1749394800@mustang.org
SUMMARY:Syracuse Shelby Mustang Club All Ford Show/Cruise-In
DESCRIPTION:Register by June 1\, 2025\, $10. Day of event registration 9AM – Noon\, $15. The Syracuse Shelby Mustang Club will host its 46th All Ford Show/Cruise-In. Bring your Ford\, Lincoln or Mercury and enjoy a relaxing day by the water with your friends. Show includes music\, food trucks\, 50/50 raffle. Show car registrants are eligible for cash prizes\, door prizes and a grand prize large screen tv. For more details check out our Facebook page Syracuse Shelby Mustang All Ford Club.
URL:https://mustang.org/event/syracuse-shelby-mustang-club-all-ford-show-cruise-in/
LOCATION:Three Rivers Point\, Gaskin Rd & Rt 57\, Clay\, NY\, 13041\, United States
CATEGORIES:Other Events
ORGANIZER;CN="Syracuse Shelby Mustang All Ford Club":MAILTO:syrshelbymustangclub@yahoo.com
END:VEVENT
BEGIN:VEVENT
DTSTART;TZID=America/Chicago:20250607T080000
DTEND;TZID=America/Chicago:20250607T160000
DTSTAMP:20260422T114426
CREATED:20250312T005343Z
LAST-MODIFIED:20250312T005343Z
UID:16253-1749283200-1749312000@mustang.org
SUMMARY:Lubbock Mustang Club 43rd Car Show
DESCRIPTION:Day of event registration 8Am – 11AM\, $30 per vehicle/ $20 per vehicle for multiple vehicles. \nOpen to all Vehicles. Professional Judged show. Best of Show for Mustangs. Best of Show for Non-Mustangs. Plus Dozens more Awards. Free admission to the Public.
URL:https://mustang.org/event/lubbock-mustang-club-43rd-car-show/
LOCATION:Wayland Baptist University\, Lubbock Campus N University and NW Loop 289\, Lubock\, TX\, 79416\, United States
CATEGORIES:Other Events
ORGANIZER;CN="Lubbock Mustang Club":MAILTO:jetflett@gmail.com
END:VEVENT
BEGIN:VEVENT
DTSTART;TZID=America/Los_Angeles:20250525T090000
DTEND;TZID=America/Los_Angeles:20250525T160000
DTSTAMP:20260422T114426
CREATED:20250129T015237Z
LAST-MODIFIED:20250129T015237Z
UID:15898-1748163600-1748188800@mustang.org
SUMMARY:Pacific Northwest 43rd Annual Spring Show
DESCRIPTION:Preregister by May 16\, 2025\, $20. Day of event registration 9Am – 11AM\, $25.
URL:https://mustang.org/event/pacific-northwest-43rd-annual-spring-show/
LOCATION:Columbia Park\, Columbia Park Trail\, Kennewick\, WA\, 99336\, United States
CATEGORIES:Other Events
ORGANIZER;CN="Pacific Northwest Mustang Club":MAILTO:wildrose4whippet@netzero.com
END:VEVENT
BEGIN:VEVENT
DTSTART;TZID=America/New_York:20250518T160000
DTEND;TZID=America/New_York:20250518T190000
DTSTAMP:20260422T114426
CREATED:20250312T010214Z
LAST-MODIFIED:20250415T214908Z
UID:16260-1747584000-1747594800@mustang.org
SUMMARY:Mahoning Valley Mustangs Membership Drive
DESCRIPTION:Day of event registration 4PM – 7PM\, no charge. \nWe are celebrating 30 years of MVM! Drive your Mustang\, meet our MVM members\, and join the club! \nThere is no charge for registration. Enjoy a DJ\, Basket Auction\, immediate access to good food\, excellent wings\, and this Quaker Steak and Lube is a designated outdoor adult beverage area so you can enjoy your beverage of choice while you also enjoy viewing the Mustangs and other vehicles.
URL:https://mustang.org/event/mahoning-valley-mustangs-membership-drive/
LOCATION:Quaker Steak and Lube OH\, 5800 Patriot Blvd\, Austintown\, OH\, United States
CATEGORIES:Other Events
ORGANIZER;CN="Mahoning Valley Mustangs":MAILTO:tomkearney@netzero.com
END:VEVENT
BEGIN:VEVENT
DTSTART;TZID=America/Chicago:20250518T080000
DTEND;TZID=America/Chicago:20250518T170000
DTSTAMP:20260422T114426
CREATED:20250129T022515Z
LAST-MODIFIED:20250129T022515Z
UID:15924-1747555200-1747587600@mustang.org
SUMMARY:Wisconsin Early Mustangers 43rd Car Show
DESCRIPTION:Day of event registration 8AM – 1130Am\, $10. \nCelebrating the 70th Anniversary of The Thunderbird. Sponsored by Ewald’s Venus Ford located at 2727 E. Layton Ave.\, Cudahy\, WI. Sunday May 18th. Show Times: 8am-3pm (Rain or Shine). Check-in 8:00-11:30am. Day-of-show registration $10. Dash plaques to all vehicles! This is a participant-judged show. 1st\, 2nd\, and 3rd place Trophies in 17 classes\, plus People’s Choice and Dealer’s Choice Awards. Food\, Music\, Three 50/50 Raffles\, Sports Memorabilia Raffle\, Basket Raffles. Family Friendly!
URL:https://mustang.org/event/wisconsin-early-mustangers-43rd-car-show/
LOCATION:Ewalds Venus Ford\, 2727 E. Layton Ave\, Cudahy\, WI\, 53110\, United States
CATEGORIES:Other Events
ORGANIZER;CN="Wisconsin Early Mustangers":MAILTO:wiearlymustangers@yahoo.com
END:VEVENT
BEGIN:VEVENT
DTSTART;TZID=America/New_York:20250516T090000
DTEND;TZID=America/New_York:20250517T220000
DTSTAMP:20260422T114426
CREATED:20250129T015654Z
LAST-MODIFIED:20250129T015654Z
UID:15902-1747386000-1747519200@mustang.org
SUMMARY:48th Annual Indiana Shelby Spring Fling
DESCRIPTION:Held in one of Indiana’s most popular state parks. Friday Pony Trails and Welcome Bash. Saturday All Ford show with lunch cookout. Saturday evening dinner & awards banquet. All registration & lodging details will be posted on our website by early March.
URL:https://mustang.org/event/48th-annual-indiana-shelby-spring-fling/
LOCATION:Brown County State Park\, 11801 SR-46 West\, Nashville\, IN\, 47448\, United States
CATEGORIES:Other Events
ORGANIZER;CN="Indiana SAAC":MAILTO:sowaxeman@jdsaleen.com
END:VEVENT
BEGIN:VEVENT
DTSTART;TZID=America/New_York:20250426T080000
DTEND;TZID=America/New_York:20250426T170000
DTSTAMP:20260422T114426
CREATED:20250220T203116Z
LAST-MODIFIED:20250220T203116Z
UID:16150-1745654400-1745686800@mustang.org
SUMMARY:VALLEY MUSTANGS UNLIMITED 30th Annual All-Inclusive Car Show
DESCRIPTION:Day of event registration 8AM – 11AM\, $20. \nGroups wishing to park together must arrive together. No saving spaces. NO TENTS. 7 classes each with 2 awards. Dash Plaques for first 100 entries. Door prizes\, Raffles\, 50/50 and Silent auctions. Food trucks.\nALL SHOW PROCEEDS BENIFIT – Special Olympics Virginia and WRE ( Middle River Council )
URL:https://mustang.org/event/valley-mustangs-unlimited-30th-annual-all-inclusive-car-show/
LOCATION:Belk Parking Lot\, 13 Lee Jackson Hwy\, Stauton\, VA\, 24401\, United States
CATEGORIES:Other Events
ORGANIZER;CN="Valley Mustangs Unlimited":MAILTO:rs69mustang@gmail.com
END:VEVENT
BEGIN:VEVENT
DTSTART;TZID=America/Chicago:20250411T170000
DTEND;TZID=America/Chicago:20250413T220000
DTSTAMP:20260422T114426
CREATED:20250129T020408Z
LAST-MODIFIED:20250129T020408Z
UID:15909-1744390800-1744581600@mustang.org
SUMMARY:Snakes and Stangs
DESCRIPTION:Preregister January 11- April 11\, 2025\, $70. Day of event registration\, $65.  This event is open to all Shelby’s\, Mustang’s and all Ford produced vehicles. It is designed to have some fun while allowing participants to make new friends and re-connect with old ones. Activities include a Poker Run into the Hill Country\, Car Show and other events. Funds Raised are for Carroll Shelby Automotive Program\, Stillwater Ranch and other local Charities.
URL:https://mustang.org/event/snakes-and-stangs/
LOCATION:Hallmark University\, 9855 Westover Hills Blvd.\, San Antonio\, TX\, 78251\, United States
CATEGORIES:Other Events
ORGANIZER;CN="Southwest Texas Shelby & Performance Club":MAILTO:pwoeppel@yahoo.com
END:VEVENT
BEGIN:VEVENT
DTSTART;TZID=America/New_York:20250125T120000
DTEND;TZID=America/New_York:20250125T160000
DTSTAMP:20260422T114426
CREATED:20241122T021045Z
LAST-MODIFIED:20241122T021045Z
UID:15716-1737806400-1737820800@mustang.org
SUMMARY:Stangs VS Vettes
DESCRIPTION:Day of event registration 11:30AM – 3:00PM\, $20. This is the 13th annual event and is open to all Mustangs and Corvettes only.\nWe need all the Mustangs we can get to beat the Corvettes in the head-to-head battle.
URL:https://mustang.org/event/stangs-vs-vettes/
LOCATION:Coconut Point\, 23103 Fashion Dr\, Estero\, FL\, 33928\, United States
CATEGORIES:Other Events
ORGANIZER;CN="Gulfshore Mustang Club of Southwest Florida":MAILTO:eventsgsmc@gmail.com
END:VEVENT
END:VCALENDAR